BEGIN:VCALENDAR
VERSION:2.0
PRODID:-//Top Rung Education - ECPv6.15.20//NONSGML v1.0//EN
CALSCALE:GREGORIAN
METHOD:PUBLISH
X-ORIGINAL-URL:https://toprungeducation.com
X-WR-CALDESC:Events for Top Rung Education
REFRESH-INTERVAL;VALUE=DURATION:PT1H
X-Robots-Tag:noindex
X-PUBLISHED-TTL:PT1H
BEGIN:VTIMEZONE
TZID:America/Chicago
BEGIN:DAYLIGHT
TZOFFSETFROM:-0600
TZOFFSETTO:-0500
TZNAME:CDT
DTSTART:20230312T080000
END:DAYLIGHT
BEGIN:STANDARD
TZOFFSETFROM:-0500
TZOFFSETTO:-0600
TZNAME:CST
DTSTART:20231105T070000
END:STANDARD
BEGIN:DAYLIGHT
TZOFFSETFROM:-0600
TZOFFSETTO:-0500
TZNAME:CDT
DTSTART:20240310T080000
END:DAYLIGHT
BEGIN:STANDARD
TZOFFSETFROM:-0500
TZOFFSETTO:-0600
TZNAME:CST
DTSTART:20241103T070000
END:STANDARD
BEGIN:DAYLIGHT
TZOFFSETFROM:-0600
TZOFFSETTO:-0500
TZNAME:CDT
DTSTART:20250309T080000
END:DAYLIGHT
BEGIN:STANDARD
TZOFFSETFROM:-0500
TZOFFSETTO:-0600
TZNAME:CST
DTSTART:20251102T070000
END:STANDARD
BEGIN:DAYLIGHT
TZOFFSETFROM:-0600
TZOFFSETTO:-0500
TZNAME:CDT
DTSTART:20260308T080000
END:DAYLIGHT
BEGIN:STANDARD
TZOFFSETFROM:-0500
TZOFFSETTO:-0600
TZNAME:CST
DTSTART:20261101T070000
END:STANDARD
END:VTIMEZONE
BEGIN:VEVENT
DTSTART;TZID=America/Chicago:20250114T080000
DTEND;TZID=America/Chicago:20250114T150000
DTSTAMP:20260422T104532
CREATED:20241114T211358Z
LAST-MODIFIED:20241114T211358Z
UID:10000002-1736841600-1736866800@toprungeducation.com
SUMMARY:Broker Responsibility
DESCRIPTION:
URL:https://toprungeducation.com/event/broker-responsibility/
LOCATION:Hanszen-Bailey Real Estate\, 700 E Polk Street\, Burnet\, TX\, 78611\, United States
END:VEVENT
BEGIN:VEVENT
DTSTART;TZID=America/Chicago:20241203T080000
DTEND;TZID=America/Chicago:20241203T170000
DTSTAMP:20260422T104532
CREATED:20241114T205951Z
LAST-MODIFIED:20241119T012403Z
UID:10000001-1733212800-1733245200@toprungeducation.com
SUMMARY:Texas Legal I and II Update
DESCRIPTION:Join us in-person for one or both Mandatory Texas Legal Update CE classes. \nEach part is $40. Register online to reserve a seat and pay on-site. \nTREC-approved course: Legal Update I (Course #47600\, 4 CE) 8:00 a.m.- 12:00 p.m. \nTREC-approved course: Legal Update Il (Course #47601\, 4 CE) 1:00 p.m.- 5:00 p.m. \nREGISTER
URL:https://toprungeducation.com/event/texas-legal-i-and-ii-update/
LOCATION:Hanszen-Bailey Real Estate\, 700 E Polk Street\, Burnet\, TX\, 78611\, United States
ATTACH;FMTTYPE=image/png:https://toprungeducation.com/wp-content/uploads/2024/11/December-3-Flyer-Legal-Update-e1731979435636.png
END:VEVENT
END:VCALENDAR